BEGIN:VCALENDAR
VERSION:2.0
PRODID:Events Booking
BEGIN:VEVENT
UID:69e9013f38574
SUMMARY:Corso Excel Avanzato
DESCRIPTION:Gestione delle attività e Analisi dei dati - Excel intermedio\
 , avanzato
LOCATION:45\, Galleria Francesco Crispi
DTSTART:20250130T080000Z
DTEND:20250306T120000Z
DTSTAMP:20231227T161814Z
ORGANIZER;CN=Centro Api Servizi - Il tuo partner per la formazione a Vicenz
 a:MAILTO:info@centroapiservizi.it
GEO:45.545812;11.517904
X-APPLE-STRUCTURED-LOCATION;VALUE=URI;X-ADDRESS=45\, Galleria Francesco Cri
 spi;X-APPLE-RADIUS=72;X-TITLE=Sede Centro Api Servizi srl SB:45.545812;11.
 517904
END:VEVENT
END:VCALENDAR