BEGIN:VCALENDAR
VERSION:2.0
PRODID:Events Booking
BEGIN:VEVENT
UID:69ea8f71ea71c
SUMMARY:Innovazioni nel Procurement: Sostenibilità\, Lean e Digitalizzazio
 ne
DESCRIPTION:L'obiettivo del corso è fornire gli strumenti per modernizzare
  la funzione Acquisti\, trasformandola in un elemento chiave della Supply 
 Chain.
LOCATION:45\, Galleria Francesco Crispi
DTSTART:20241113T080000Z
DTEND:20241120T160000Z
DTSTAMP:20240704T081407Z
ORGANIZER;CN=Centro Api Servizi - Il tuo partner per la formazione a Vicenz
 a:MAILTO:info@centroapiservizi.it
GEO:45.545812;11.517904
X-APPLE-STRUCTURED-LOCATION;VALUE=URI;X-ADDRESS=45\, Galleria Francesco Cri
 spi;X-APPLE-RADIUS=72;X-TITLE=Sede Centro Api Servizi srl SB:45.545812;11.
 517904
END:VEVENT
END:VCALENDAR